BEGIN:VCALENDAR
VERSION:2.0
PRODID:-//Pushing Up Lillies - ECPv6.15.20//NONSGML v1.0//EN
CALSCALE:GREGORIAN
METHOD:PUBLISH
X-WR-CALNAME:Pushing Up Lillies
X-ORIGINAL-URL:https://pushinguplilies.com
X-WR-CALDESC:Events for Pushing Up Lillies
REFRESH-INTERVAL;VALUE=DURATION:PT1H
X-Robots-Tag:noindex
X-PUBLISHED-TTL:PT1H
BEGIN:VTIMEZONE
TZID:America/Los_Angeles
BEGIN:DAYLIGHT
TZOFFSETFROM:-0800
TZOFFSETTO:-0700
TZNAME:PDT
DTSTART:20250309T100000
END:DAYLIGHT
BEGIN:STANDARD
TZOFFSETFROM:-0700
TZOFFSETTO:-0800
TZNAME:PST
DTSTART:20251102T090000
END:STANDARD
BEGIN:DAYLIGHT
TZOFFSETFROM:-0800
TZOFFSETTO:-0700
TZNAME:PDT
DTSTART:20260308T100000
END:DAYLIGHT
BEGIN:STANDARD
TZOFFSETFROM:-0700
TZOFFSETTO:-0800
TZNAME:PST
DTSTART:20261101T090000
END:STANDARD
BEGIN:DAYLIGHT
TZOFFSETFROM:-0800
TZOFFSETTO:-0700
TZNAME:PDT
DTSTART:20270314T100000
END:DAYLIGHT
BEGIN:STANDARD
TZOFFSETFROM:-0700
TZOFFSETTO:-0800
TZNAME:PST
DTSTART:20271107T090000
END:STANDARD
END:VTIMEZONE
BEGIN:VEVENT
DTSTART;TZID=America/Los_Angeles:20260228T140000
DTEND;TZID=America/Los_Angeles:20260228T170000
DTSTAMP:20260421T185205
CREATED:20260218T002028Z
LAST-MODIFIED:20260218T002028Z
UID:9867-1772287200-1772298000@pushinguplilies.com
SUMMARY:The Bearded Monk - True Crime Panel
DESCRIPTION:Join us for Denton READiculous Book Palooza – a city-wide book/reading/crafting extravaganza! \n\nEach venue will be a different genre with authors\, author readings\, vendors\, and more! \n\nEach spot will have a cocktail or menu item that a percentage will go back to the 2026 beneficiaries. Be sure to ask!\n\n* All events are subject to change\, please check back for any updates or changes.\n* Some subjects of books are meant for adults – please supervise your children while attending events not specified for all-ages.\n\n\nThe Bearded Monk – True Crime Panel:\n2pmModerator: Lacee HetmerPanelists: Lori Nelson\, Patrica Springer\, Julie Mattson\, Claire St. Amant\n\nAuthor Readings:5:00pm – Claire St. Amant\n\nVendors:Claire St. AmantPatricia SpringPushing Up Lilies – PodcastDenton County: Unsolved – Podcast
URL:https://pushinguplilies.com/event/the-bearded-monk-true-crime-panel/
LOCATION:The Bearded Monk\, 216 E McKinney St.\, Denton\, TX\, 76201-4230\, United States
CATEGORIES:Booth,Panel
ATTACH;FMTTYPE=image/jpeg:https://pushinguplilies.com/wp-content/uploads/2026/02/True-Crime-Panel.jpg
ORGANIZER;CN="Denton READiculous Book Palooza":MAILTO:info@fwbdenton.com
END:VEVENT
END:VCALENDAR